BEGIN:VCALENDAR
VERSION:2.0
PRODID:-//hacksw/handcal//NONSGML v1.0//EN
BEGIN:VEVENT
SUMMARY:Randonnee a la journee Saintes - La Sauzaie
UID:0fa583ee-7898-44de-aa66-d33587fcf779
DTSTART:20260424T070000Z
DTEND:20260424T150000Z
LOCATION:Localisation Parking Revereaux Place 11 Novembre  Saintes
CATEGORIES:Sportif
STATUS:
DESCRIPTION:<p> </p>
 
 <p>Bonjour a toutes et a tous,</p>
 
 <p>Nous
 vous proposons une randonnee a la journee de 18 km, avec le
 pique-nique tire du sac, depart de Saintes. Tres jolie balade variee,
 vieille ville, campagne, les bords de la Charente, avec une grande
 partie a l’ombre. Table de pique-nique pour le midi, avec
 possibilite aux conjoint(e)s de nous rejoindre.</p>
 
 <h3>Le lieu de
 rendez-vous est sur le Parking Reverseaux, Place du 11 Novembre a
 Saintes, juste en face l'ancien hopital.</h3>
 
 <h3>Encadrants:
 Jacques</h3>
 
 <p>Parcourt : 18 km env.</p>
URL;VALUE=URI:https://www.gv-breuillet-17920.com/evenements/2026/04/24/randonnee-a-la-journee-saintes-la-sauzaie-2425420
END:VEVENT
END:VCALENDAR
